BEGIN:VCALENDAR
VERSION:2.0
PRODID:-//ChamberMaster//Event Calendar 2.0//EN
METHOD:PUBLISH
X-PUBLISHED-TTL:P3D
REFRESH-INTERVAL:P3D
CALSCALE:GREGORIAN
BEGIN:VEVENT
DTSTART:20171027T220000Z
DTEND:20171028T003000Z
X-MICROSOFT-CDO-ALLDAYEVENT:FALSE
SUMMARY:Trick or Treat Halloween Party at Danville Regional Rehab
DESCRIPTION:Put on your favorite costume and come meet our residents and staff. Children can trick or treat as our residents will be ready to hand out candy! Play games and share in the fun as we celebrate all night long.\n\nFun for all ages!\n\nWe will have trick or treat buckets available
X-ALT-DESC;FMTTYPE=text/html:Put on your favorite costume and come meet our residents and staff. Children can trick or treat as our residents will be ready to hand out candy! Play games and share in the fun as we celebrate all night long.<br />\nFun for all ages!<br />\nWe will have trick or treat buckets available
LOCATION:Danville Regional Rehabilitation 255 Meadow Dr Danville\, IN 46122
UID:e.2233.1605
SEQUENCE:3
DTSTAMP:20260425T122953Z
URL:https://business.danvillechamber.org/events/details/trick-or-treat-halloween-party-at-danville-regional-rehab-1605
END:VEVENT

END:VCALENDAR
