BEGIN:VCALENDAR
VERSION:2.0
PRODID:-//ChamberMaster//Event Calendar 2.0//EN
METHOD:PUBLISH
X-PUBLISHED-TTL:P3D
REFRESH-INTERVAL:P3D
CALSCALE:GREGORIAN
BEGIN:VEVENT
DTSTART:20171030T220000Z
DTEND:20171031T000000Z
X-MICROSOFT-CDO-ALLDAYEVENT:FALSE
SUMMARY:Trick or Treat at Avon Health & Rehab Center
DESCRIPTION:Come out and celebrate Halloween with Avon Health & Rehabilitation Center! Trick or Treating for kids 12 & under. Free to the public!! Safe Family Fun!!
X-ALT-DESC;FMTTYPE=text/html:Come out and celebrate Halloween with Avon Health &amp\; Rehabilitation Center! Trick or Treating for kids 12 &amp\; under. Free to the public!! Safe Family Fun!!
LOCATION:Avon Health & Rehabilitation Center 4171 Forest Pointe Circle Avon\, IN 46123
UID:e.2233.1606
SEQUENCE:3
DTSTAMP:20260425T130111Z
URL:https://business.danvillechamber.org/events/details/trick-or-treat-at-avon-health-rehab-center-1606
END:VEVENT

END:VCALENDAR
