BEGIN:VCALENDAR
VERSION:2.0
PRODID:-//ChamberMaster//Event Calendar 2.0//EN
METHOD:PUBLISH
X-PUBLISHED-TTL:P3D
REFRESH-INTERVAL:P3D
CALSCALE:GREGORIAN
BEGIN:VEVENT
DTSTART;VALUE=DATE:20180908
DTEND;VALUE=DATE:20180910
TRANSP:TRANSPARENT
X-MICROSOFT-CDO-ALLDAYEVENT:TRUE
SUMMARY:Tri Kappa Fair on the Square
DESCRIPTION:Danville Tri Kappa's Fair on the Square is an annual community event that draws large numbers of visitors   from Danville and surrounding towns   to the streets surrounding the Hendricks County Courthouse. Typically held the second week of September (Sept. 8 and 9 in 2018)\, the fair includes more than 100 booths of shopping\, live entertainment\, locally grown foods and more. Booths line 3/4 of the block surrounding the courthouse - on Washington\, Marion and Jefferson streets. The fair is the centerpiece for what has become a popular community weekend.
X-ALT-DESC;FMTTYPE=text/html:Danville Tri Kappa&#39\;s Fair on the Square is an annual community event that draws large numbers of visitors &mdash\; from Danville and surrounding towns &mdash\; to the streets surrounding the Hendricks County Courthouse. Typically held the second week of September (Sept. 8 and 9 in 2018)\, the fair includes more than 100 booths of shopping\, live entertainment\, locally grown foods and more. Booths line 3/4 of the block surrounding the courthouse - on Washington\, Marion and Jefferson streets. The fair is the centerpiece for what has become a popular community weekend.
LOCATION:Danville Square
UID:e.2233.1638
SEQUENCE:3
DTSTAMP:20260424T195812Z
URL:https://business.danvillechamber.org/events/details/tri-kappa-fair-on-the-square-1638
END:VEVENT

END:VCALENDAR
