BEGIN:VCALENDAR
VERSION:2.0
PRODID:-//ChamberMaster//Event Calendar 2.0//EN
METHOD:PUBLISH
X-PUBLISHED-TTL:P3D
REFRESH-INTERVAL:P3D
CALSCALE:GREGORIAN
BEGIN:VEVENT
DTSTART:20171021T120000Z
DTEND:20171021T170000Z
X-MICROSOFT-CDO-ALLDAYEVENT:FALSE
SUMMARY:Tox Away Day
DESCRIPTION:Tox-Away Days are opportunities for Hendricks County households to properly dispose of household hazardous waste (HHW)\, tires\, electronics and appliances.\n\nAll HHW (chemicals\, auto fluids\, fluorescent bulbs\, batteries\, pesticides\, herbicides\, medicines\, sharps\, propane tanks\, etc.) is accepted from households free of charge.\n\nFees are charged for the recycling of TV's ($20/$25)\, appliances ($5/$10) and tires (over a certain number).\n\nRegulations prohibit wastes from businesses or other organizations from being accepted at Tox-Away Days.\n\nLatex paint should not be brought to Tox-Away Day for disposal--instead\, dry it out and throw it away.
X-ALT-DESC;FMTTYPE=text/html:Tox-Away Days are opportunities for Hendricks County households to properly dispose of household hazardous waste (HHW)\, tires\, electronics and appliances.<br />\nAll HHW (chemicals\, auto fluids\, fluorescent bulbs\, batteries\, pesticides\, herbicides\, medicines\, sharps\, propane tanks\, etc.) is accepted from households free of charge.<br />\nFees are charged for the recycling of TV&#39\;s ($20/$25)\, appliances ($5/$10) and tires (over a certain number).<br />\nRegulations prohibit wastes from businesses or other organizations from being accepted at Tox-Away Days.<br />\nLatex paint should not be brought to Tox-Away Day for disposal--instead\, dry it out and throw it away.
LOCATION:Plainfield Middle School 985 S. Longfellow Ln Plainfield\, IN
UID:e.2233.1600
SEQUENCE:3
DTSTAMP:20260425T125847Z
URL:https://business.danvillechamber.org/events/details/tox-away-day-1600
END:VEVENT

END:VCALENDAR
