BEGIN:VCALENDAR
VERSION:2.0
PRODID:-//ChamberMaster//Event Calendar 2.0//EN
METHOD:PUBLISH
X-PUBLISHED-TTL:P3D
REFRESH-INTERVAL:P3D
CALSCALE:GREGORIAN
BEGIN:VEVENT
DTSTART:20180728T220000Z
DTEND:20180729T010000Z
X-MICROSOFT-CDO-ALLDAYEVENT:FALSE
SUMMARY:Tiki Time
DESCRIPTION:Sycamore Services\, Inc.\, will host its 12th annual Tiki Time fundraiser on Saturday\, July 28\, at the Hendricks County 4H Fairgrounds Complex. The event will include dinner buffet\, live music\, dancing\, silent and live auction\, games and more. Proceeds from the evening will go towards programming and services that help build confidence and independence for individuals with intellectual and developmental disabilities\, Autism\, physical disabilities and others who face daily challenges. Ticket and sponsorship information for Tiki Time is available through the organization's website at SycamoreServices.com. \n\n\n\nSycamore Services\, Inc.\, is a 501(c)3 nonprofit agency that serves individuals with disabilities by providing individualized training and services to increase independence and improve quality of life.  For more information\, contact Sycamore Services at 317-745-4715.
X-ALT-DESC;FMTTYPE=text/html:<div>\n<p><span style="font-family:calibri\,calibri_msfontservice\,sans-serif\; font-size:11pt">Sycamore Services\, Inc.\, will host its </span><span style="font-family:calibri\,calibri_msfontservice\,sans-serif\; font-size:11pt">12</span><span style="font-family:calibri\,calibri_msfontservice\,sans-serif\; font-size:8.5pt"><span style="background-color:inherit">th</span></span><span style="font-family:calibri\,calibri_msfontservice\,sans-serif\; font-size:11pt">&nbsp\;annual&nbsp\;</span><span style="font-family:calibri\,calibri_msfontservice\,sans-serif\; font-size:11pt"><span style="background-color:inherit">Tiki</span></span><span style="font-family:calibri\,calibri_msfontservice\,sans-serif\; font-size:11pt">&nbsp\;Time fundraiser on Saturday\, July 28\, at the Hendricks County 4H Fairgrounds Complex. The event will include dinner buffet\, live music\, dancing\, silent and live auction\, games and more. Proceeds from the evening will go towards programming and services that help build confidence and independence&nbsp\;</span><span style="font-family:calibri\,calibri_msfontservice\,sans-serif\; font-size:11pt">for individuals with intellectual</span><span style="font-family:calibri\,calibri_msfontservice\,sans-serif\; font-size:11pt">&nbsp\;and&nbsp\;</span><span style="font-family:calibri\,calibri_msfontservice\,sans-serif\; font-size:11pt">developmental disabilities\, Autism\, physical disabilities and others who face daily challenges. Ticket and sponsorship information for&nbsp\;</span><span style="font-family:calibri\,calibri_msfontservice\,sans-serif\; font-size:11pt"><span style="background-color:inherit">Tiki</span></span><span style="font-family:calibri\,calibri_msfontservice\,sans-serif\; font-size:11pt">&nbsp\;Time is available&nbsp\;</span><span style="font-family:calibri\,calibri_msfontservice\,sans-serif\; font-size:11pt">through&nbsp\;</span><span style="font-family:calibri\,calibri_msfontservice\,sans-serif\; font-size:11pt">the organization&#39\;s website</span><span style="font-family:calibri\,calibri_msfontservice\,sans-serif\; font-size:11pt">&nbsp\;at&nbsp\;</span><span style="font-family:calibri\,calibri_msfontservice\,sans-serif\; font-size:11pt">SycamoreServices</span><span style="font-family:calibri\,calibri_msfontservice\,sans-serif\; font-size:11pt">.com.</span><span style="font-family:calibri\,calibri_msfontservice\,sans-serif\; font-size:11pt">&nbsp\;</span></p>\n</div>\n\n<div>\n<p><span style="font-family:calibri\,calibri_msfontservice\,sans-serif\; font-size:11pt">Sycamore Services\, Inc.\, is a 501(c)3 nonprofit agency that serves individuals with disabilities by providing&nbsp\;</span><span style="font-family:calibri\,calibri_msfontservice\,sans-serif\; font-size:11pt">individualized</span><span style="font-family:calibri\,calibri_msfontservice\,sans-serif\; font-size:11pt">&nbsp\;training and services to increase&nbsp\;</span><span style="font-family:calibri\,calibri_msfontservice\,sans-serif\; font-size:11pt">independence</span><span style="font-family:calibri\,calibri_msfontservice\,sans-serif\; font-size:11pt">&nbsp\;and improve quality of life. </span><span style="font-family:calibri\,calibri_msfontservice\,sans-serif\; font-size:11pt">&nbsp\;For more information\, contact Sycamore Services at 317-745-4715.</span><span style="font-family:calibri\,calibri_msfontservice\,sans-serif\; font-size:11pt">&nbsp\;</span></p>\n</div>\n
LOCATION:Hendricks County 4H Fairgrounds
UID:e.2233.1636
SEQUENCE:3
DTSTAMP:20260424T223747Z
URL:https://business.danvillechamber.org/events/details/tiki-time-1636
END:VEVENT

END:VCALENDAR
