BEGIN:VCALENDAR
VERSION:2.0
PRODID:-//ChamberMaster//Event Calendar 2.0//EN
METHOD:PUBLISH
X-PUBLISHED-TTL:P3D
REFRESH-INTERVAL:P3D
CALSCALE:GREGORIAN
BEGIN:VEVENT
DTSTART:20200509T200000Z
DTEND:20200509T220000Z
X-MICROSOFT-CDO-ALLDAYEVENT:FALSE
SUMMARY:The Way of a Warrior
DESCRIPTION:The Way of a Warrior \n\nA fun way to support the citizens\, businesses and organizations that make this Town amazing.  Please play along each day and interact to the events planned.  Winners are announced the following day along with a prize purchased from a local business or donated by a local service organizations\, groups\, and local businesses.  \n\n\n\n\n\nSaturday   Scavenger Hunt \n\nJoin Danville for their Social Distancing Scavenger Hunt on Saturday\, May 9th from 4-6PM! Explore the Danville area with your family & take pictures of the items you find on the list from your car!\n\n\n\nPRICING:\n\n$50 Per Group\n\nDinner Feeds 4-6 people\n\n**All people must be in same car**\n\n\n\nPrices include:\n\n2 hours of SAFE social distancing fun\n\nDelicious dinner to-go from Local Restaurants\n\nMultiple chances to win prizes!  \n\n\n\nHOW IT WORKS:\n\n\n\nRight before 4PM on the day of the hunt\, you will post a team selfie on this Facebook event page. At 4PM\, we will email the list of items your team will be looking for to registrants. You will have 2 hours to get as many photos as you can! As you find the items on the list\, you will post the pictures in the comments under your original post of your team selfie. Each team should designate one person in their car to post all of the photos.\n\n\n\n**You MUST stay in your car to take the pictures of items you find unless instructed otherwise.**\n\n\n\nWhen the hunt ends at 6PM\, your team should head to the restaurant chosen to pick up their dinner for their family.   Take it home & enjoy a night off from cooking!\n\n \n\nWe will have several prizes to hand out throughout the night and one grand prize will be awarded to one family who participates!  Lots of prizes to win!
X-ALT-DESC;FMTTYPE=text/html:<strong><u><span style="font-family:calibri\,sans-serif\;"><span style="font-size:16.0pt\;">The Way of&nbsp\;a&nbsp\;Warrior</span></span></u></strong>&nbsp\;<br />\n<span style="font-family:calibri\,sans-serif\;"><span style="font-size:11.0pt\;">A fun way&nbsp\;to support the citizens\, businesses and organizations that make this Town amazing.&nbsp\; Please play along each day and interact to the events planned.&nbsp\; Winners&nbsp\;are&nbsp\;announced&nbsp\;the following&nbsp\;day along with a prize purchased from a local business&nbsp\;or donated by a&nbsp\;local&nbsp\;service organizations\,&nbsp\;groups\, and local businesses.&nbsp\; </span></span><br />\n<br />\n<br />\n<span style="font-family:calibri\,sans-serif\;"><span style="font-size:11.0pt\;">Saturday &ndash\; Scavenger Hunt&nbsp\;</span></span><br />\nJoin Danville for their Social Distancing Scavenger Hunt on Saturday\, May 9th from 4-6PM! Explore the Danville area with your family &amp\; take pictures of the items you find on the list from your car!<br />\n<br />\nPRICING:<br />\n$50 Per Group<br />\nDinner Feeds 4-6 people<br />\n**All people must be in same car**<br />\n<br />\nPrices include:<br />\n2 hours of SAFE social distancing fun<br />\nDelicious dinner to-go from Local Restaurants<br />\nMultiple chances to win prizes! &nbsp\;<br />\n<br />\nHOW IT WORKS:<br />\n<br />\nRight before 4PM on the day of the hunt\, you will post a team selfie on this Facebook event page. At 4PM\, we will email the list of items your team will be looking for to registrants. You will have 2 hours to get as many photos as you can! As you find the items on the list\, you will <strong>post the pictures in the comments under your original post of your team selfie</strong>. Each team should designate one person in their car to post all of the photos.<br />\n<br />\n**You MUST stay in your car to take the pictures of items you find unless instructed otherwise.**<br />\n<br />\nWhen the hunt ends at 6PM\, your team should head to the restaurant chosen to pick up their dinner for their family. &nbsp\;&nbsp\;Take it home &amp\; enjoy a night off from cooking!<br />\n&nbsp\;<br />\nWe will have several prizes to hand out throughout the night and one grand prize will be awarded to one family who participates!&nbsp\; Lots of prizes to win!&nbsp\;
LOCATION:Danville\, IN
UID:e.2233.1852
SEQUENCE:3
DTSTAMP:20260422T035755Z
URL:https://business.danvillechamber.org/events/details/the-way-of-a-warrior-1852
END:VEVENT

END:VCALENDAR
