BEGIN:VCALENDAR
VERSION:2.0
PRODID:-//ChamberMaster//Event Calendar 2.0//EN
METHOD:PUBLISH
X-PUBLISHED-TTL:P3D
REFRESH-INTERVAL:P3D
CALSCALE:GREGORIAN
BEGIN:VEVENT
DTSTART:20170429T130000Z
DTEND:20170429T180000Z
X-MICROSOFT-CDO-ALLDAYEVENT:FALSE
SUMMARY:Spring Fest 2017
DESCRIPTION:Spring Bazaar - featuring local artisans and businesses\; lunch available by Women's Group\; dessert/bake sale by Jr./Sr. Youth Group. Vendor registration forms available on church website.
X-ALT-DESC;FMTTYPE=text/html:Spring Bazaar - featuring local artisans and businesses\; lunch available by Women&#39\;s Group\; dessert/bake sale by Jr./Sr. Youth Group. Vendor registration forms available on church website.
LOCATION:Danville United Methodist Church 820 W Mill St Danville\, IN 46122
UID:e.2233.582
SEQUENCE:3
DTSTAMP:20260425T213224Z
URL:https://business.danvillechamber.org/events/details/spring-fest-2017-582
END:VEVENT

END:VCALENDAR
