BEGIN:VCALENDAR
VERSION:2.0
PRODID:-//ChamberMaster//Event Calendar 2.0//EN
METHOD:PUBLISH
X-PUBLISHED-TTL:P3D
REFRESH-INTERVAL:P3D
CALSCALE:GREGORIAN
BEGIN:VEVENT
DTSTART:20180417T130000Z
DTEND:20180417T203000Z
X-MICROSOFT-CDO-ALLDAYEVENT:FALSE
SUMMARY:SHS Security Camp Conference 2018
DESCRIPTION:SHS SecurityCamp 2018 brings together leading security experts in a training format that ensures you walk away with solutions to your problems.  SecurityCamp follows the format of TedX and EdCamp which create deep discussions and connections.  You bring us the security problems that keep you up at night and we facilitate the discussions to provide a solution.
X-ALT-DESC;FMTTYPE=text/html:<div>\n<div>\n<div>SHS SecurityCamp 2018 brings together leading security experts in a training format that ensures you walk away with solutions to your problems.&nbsp\; SecurityCamp follows the format of TedX and EdCamp which create deep discussions and connections.&nbsp\; You bring us the security problems that keep you up at night and we facilitate the discussions to provide a solution.</div>\n\n<div>&nbsp\;</div>\n</div>\n</div>\n
LOCATION:Hendricks County 4H Conference Complex
UID:e.2233.1623
SEQUENCE:3
DTSTAMP:20260425T031614Z
URL:https://business.danvillechamber.org/events/details/shs-security-camp-conference-2018-1623
END:VEVENT

END:VCALENDAR
