BEGIN:VCALENDAR
VERSION:2.0
PRODID:-//ChamberMaster//Event Calendar 2.0//EN
METHOD:PUBLISH
X-PUBLISHED-TTL:P3D
REFRESH-INTERVAL:P3D
CALSCALE:GREGORIAN
BEGIN:VEVENT
DTSTART:20180926T120000Z
DTEND:20180926T140000Z
X-MICROSOFT-CDO-ALLDAYEVENT:FALSE
SUMMARY:QuickBooks Learning Session
DESCRIPTION:This session covers details related to accounts receivable\, accounts payable\, and reports related to A/R and A/P\, profit and loss statements\, and balance sheets. RSVP required. Seats limited.
X-ALT-DESC;FMTTYPE=text/html:This session covers details related to accounts receivable\, accounts payable\, and reports related to A/R and A/P\, profit and loss statements\, and balance sheets. RSVP required. Seats limited.
LOCATION:Hendricks Power Cooperative\, Community Room 86 N. County Road 500 East Avon\, IN
UID:e.2233.1648
SEQUENCE:3
DTSTAMP:20260424T195558Z
URL:https://business.danvillechamber.org/events/details/quickbooks-learning-session-1648
END:VEVENT

END:VCALENDAR
