BEGIN:VCALENDAR
VERSION:2.0
PRODID:-//ChamberMaster//Event Calendar 2.0//EN
METHOD:PUBLISH
X-PUBLISHED-TTL:P3D
REFRESH-INTERVAL:P3D
CALSCALE:GREGORIAN
BEGIN:VEVENT
DTSTART;VALUE=DATE:20181014
DTEND;VALUE=DATE:20181015
TRANSP:TRANSPARENT
X-MICROSOFT-CDO-ALLDAYEVENT:TRUE
SUMMARY:Purple in the Pews
DESCRIPTION:Sunday\, Oct. 14 "Purple in the Pews" Wear purple to church\, showing your support in the fight against Domestic Violence. Share your stand on social media as a congregation or as an individual! #PurpleInThePews
X-ALT-DESC;FMTTYPE=text/html:Sunday\, Oct. 14 &ldquo\;Purple in the Pews&rdquo\; Wear purple to church\, showing your support in the fight against Domestic Violence. Share your stand on social media as a congregation or as an individual! #PurpleInThePews
LOCATION:Various locations
UID:e.2233.1642
SEQUENCE:3
DTSTAMP:20260424T195939Z
URL:https://business.danvillechamber.org/events/details/purple-in-the-pews-1642
END:VEVENT

END:VCALENDAR
