BEGIN:VCALENDAR
VERSION:2.0
PRODID:-//ChamberMaster//Event Calendar 2.0//EN
METHOD:PUBLISH
X-PUBLISHED-TTL:P3D
REFRESH-INTERVAL:P3D
CALSCALE:GREGORIAN
BEGIN:VEVENT
DTSTART:20171005T223000Z
DTEND:20171006T003000Z
X-MICROSOFT-CDO-ALLDAYEVENT:FALSE
SUMMARY:Paint and Sip - October 5
DESCRIPTION:It's the latest fun\, social event in Danville. Painter enjoy sipping their favorite beverage as they create their own work of art.\n\n\n\nFlory\, you local artist\, guides the group with step-by-step instructions to re-create the featured painting of the day. A little nervous? Don't be. WE make painting easy and exciting as you connect with your inner artsy side! \n\n\n\nNo experience. No problem.\n\n\n\nAt the end of the event\, you take home a beautiful peice of artwork that you created! Art is good for the soul.\n\n\n\nToday's painting: "Willbert" / "Need Coffee" / "Bad Hair Day"\n\nYou will have "Willbert" template to trace on your 10x20 canvas.
X-ALT-DESC;FMTTYPE=text/html:It&#39\;s the latest fun\, social event in Danville. Painter enjoy sipping their favorite beverage as they create their own work of art.<br />\n<br />\nFlory\, you local artist\, guides the group with step-by-step instructions to re-create the featured painting of the day. A little nervous? Don&#39\;t be. WE make painting easy and exciting as you connect with your inner artsy side!&nbsp\;<br />\n<br />\n<strong>No experience. No problem.</strong><br />\n<br />\nAt the end of the event\, you take home a beautiful peice of artwork that you created! Art is good for the soul.<br />\n<br />\n<span style="font-size:16px\;"><strong>Today&#39\;s painting: &quot\;Willbert&quot\; / &quot\;Need Coffee&quot\; / &quot\;Bad Hair Day&quot\;</strong></span><br />\nYou will have &quot\;Willbert&quot\; template to trace on your 10x20 canvas.
LOCATION:Paint and Sip at Gallery on the Square 51 South Washington St Danville\, IN 46122
UID:e.2233.1598
SEQUENCE:3
DTSTAMP:20260425T135751Z
URL:https://business.danvillechamber.org/events/details/paint-and-sip-october-5-1598
END:VEVENT

END:VCALENDAR
