BEGIN:VCALENDAR
VERSION:2.0
PRODID:-//ChamberMaster//Event Calendar 2.0//EN
METHOD:PUBLISH
X-PUBLISHED-TTL:P3D
REFRESH-INTERVAL:P3D
CALSCALE:GREGORIAN
BEGIN:VEVENT
DTSTART:20230111T163000Z
DTEND:20230111T183000Z
X-MICROSOFT-CDO-ALLDAYEVENT:FALSE
SUMMARY:Membership Luncheon
DESCRIPTION:Speaker: Town of Danville \n\nCaterer: Mayberry Cafe
X-ALT-DESC;FMTTYPE=text/html:<span style="font-size:16px\;">Speaker: Town of Danville&nbsp\;<br />\nCaterer: Mayberry Cafe</span>
LOCATION:Hendricks County 4-H Fairgrounds and Conference Complex
UID:e.2233.1954
SEQUENCE:3
DTSTAMP:20260419T235115Z
URL:https://business.danvillechamber.org/events/details/membership-luncheon-1954
END:VEVENT

END:VCALENDAR
