BEGIN:VCALENDAR
VERSION:2.0
PRODID:-//ChamberMaster//Event Calendar 2.0//EN
METHOD:PUBLISH
X-PUBLISHED-TTL:P3D
REFRESH-INTERVAL:P3D
CALSCALE:GREGORIAN
BEGIN:VEVENT
DTSTART:20171026T220000Z
DTEND:20171027T010000Z
X-MICROSOFT-CDO-ALLDAYEVENT:FALSE
SUMMARY:Ladies Night Out
DESCRIPTION:Ladies Night to shop around the Square! Shops stay open later and run specials...make sure to check them all to see what you might find!
X-ALT-DESC;FMTTYPE=text/html:Ladies Night to shop around the Square! Shops stay open later and run specials...make sure to check them all to see what you might find!
LOCATION:Shops around the Hendricks County Courthouse Square
UID:e.2233.1602
SEQUENCE:3
DTSTAMP:20260425T122636Z
URL:https://business.danvillechamber.org/events/details/ladies-night-out-1602
END:VEVENT

END:VCALENDAR
