BEGIN:VCALENDAR
VERSION:2.0
PRODID:-//ChamberMaster//Event Calendar 2.0//EN
METHOD:PUBLISH
X-PUBLISHED-TTL:P3D
REFRESH-INTERVAL:P3D
CALSCALE:GREGORIAN
BEGIN:VEVENT
DTSTART:20200814T230000Z
DTEND:20200815T020000Z
X-MICROSOFT-CDO-ALLDAYEVENT:FALSE
SUMMARY:J-STAR - Evenings in Ellis
DESCRIPTION:THIS EVENT IS FREE AND OPEN TO THE PUBLIC. You may purchase or donate a VIP table\, but it is not a requirement.\n\n\n\nBring a chair and enjoy Southern Rock at its best\; featuring the music of Rock and Roll Hall of Famers Lynerd Skynrd and "frynds" like Marshall Tucker Band\, Stevie Ray Vaughan\, and more!
X-ALT-DESC;FMTTYPE=text/html:<span style="color: rgb(51\, 51\, 51)\; font-family: sans-serif\, Arial\, Verdana\, &quot\;Trebuchet MS&quot\;\; font-size: 13px\; background-color: rgb(255\, 255\, 255)\;">THIS EVENT IS FREE AND OPEN TO THE PUBLIC. You may purchase or donate a VIP table\, but it is not a requirement.<br />\n<br />\nBring a chair and enjoy Southern Rock at its best\; featuring the music of Rock and Roll Hall of Famers Lynerd Skynrd and &quot\;frynds&quot\; like Marshall Tucker Band\, Stevie Ray Vaughan\, and more!</span>
LOCATION:Ellis Park Amphitheater
UID:e.2233.1861
SEQUENCE:3
DTSTAMP:20260421T213140Z
URL:https://business.danvillechamber.org/events/details/j-star-evenings-in-ellis-1861
END:VEVENT

END:VCALENDAR
