BEGIN:VCALENDAR
VERSION:2.0
PRODID:-//ChamberMaster//Event Calendar 2.0//EN
METHOD:PUBLISH
X-PUBLISHED-TTL:P3D
REFRESH-INTERVAL:P3D
CALSCALE:GREGORIAN
BEGIN:VEVENT
DTSTART:20161202T140000Z
DTEND:20161202T200000Z
X-MICROSOFT-CDO-ALLDAYEVENT:FALSE
SUMMARY:Holiday Fest
DESCRIPTION:Cookie Walk - Fill a box of homemade holiday cookies and or purchase a pre-made tray. Craft Booths - Select unique holiday gifts from many vendors. Entertainment - Enjoy holiday music from local children and adults. Lunch served 11 a.m. - 1 p.m.
X-ALT-DESC;FMTTYPE=text/html:Cookie Walk - Fill a box of homemade holiday cookies and or purchase a pre-made tray. Craft Booths - Select unique holiday gifts from many vendors. Entertainment - Enjoy holiday music from local children and adults. Lunch served 11 a.m. - 1 p.m.
LOCATION:Hendricks County Conference Center 4-H Fairgrounds 1900 E. Main Street Danville\, IN 46122
UID:e.2233.560
SEQUENCE:3
DTSTAMP:20260426T030538Z
URL:https://business.danvillechamber.org/events/details/holiday-fest-560
END:VEVENT

END:VCALENDAR
