BEGIN:VCALENDAR
VERSION:2.0
PRODID:-//ChamberMaster//Event Calendar 2.0//EN
METHOD:PUBLISH
X-PUBLISHED-TTL:P3D
REFRESH-INTERVAL:P3D
CALSCALE:GREGORIAN
BEGIN:VEVENT
DTSTART:20171110T230000Z
DTEND:20171111T040000Z
X-MICROSOFT-CDO-ALLDAYEVENT:FALSE
SUMMARY:Hendricks Regional Health Foundation Gala
DESCRIPTION:This memorable evening will include a first look interactive tour of the new facility\, delicious dinner\, unique silent and live auction packages\, amazing entertainment from the legendary band Foreigner\, and more. Proceeds support the mobile telestroke program at Hendricks Regional Health.
X-ALT-DESC;FMTTYPE=text/html:This memorable evening will include a first look interactive tour of the new facility\, delicious dinner\, unique silent and live auction packages\, amazing entertainment from the legendary band Foreigner\, and more. Proceeds support the mobile telestroke program at Hendricks Regional Health.
LOCATION:Hendricks Regional Health Brownsburg Hospital 5492 N. Ronald Reagan Parkway Brownsburg\, IN
UID:e.2233.1592
SEQUENCE:3
DTSTAMP:20260425T112538Z
URL:https://business.danvillechamber.org/events/details/hendricks-regional-health-foundation-gala-1592
END:VEVENT

END:VCALENDAR
