BEGIN:VCALENDAR
VERSION:2.0
PRODID:-//ChamberMaster//Event Calendar 2.0//EN
METHOD:PUBLISH
X-PUBLISHED-TTL:P3D
REFRESH-INTERVAL:P3D
CALSCALE:GREGORIAN
BEGIN:VEVENT
DTSTART:20180531T100000Z
DTEND:20180531T233000Z
X-MICROSOFT-CDO-ALLDAYEVENT:FALSE
SUMMARY:Hendricks Regional Health Foundation 2018 Golf Outing
DESCRIPTION:Please join us for our annual golf outing. Tee times for morning and afternoon flights are available on a first-come\, first-served basis. Player registration fees includes green fees\, cart fees\, great food and non-alcoholic drinks from the beverage carts. Players need cash only for adult beverages and raffle tickets as this is a "game-free" outing. "Just Play" and enjoy a great day of golf while helping save lives at Hendricks Regional Health. Sponsorship opportunities also are available. Please contact Michelle if you have questions or would like to register your foursome.
X-ALT-DESC;FMTTYPE=text/html:Please join us for our annual golf outing. Tee times for morning and afternoon flights are available on a first-come\, first-served basis. Player registration fees includes green fees\, cart fees\, great food and non-alcoholic drinks from the beverage carts. Players need cash only for adult beverages and raffle tickets as this is a &ldquo\;game-free&rdquo\; outing. &ldquo\;Just Play&rdquo\; and enjoy a great day of golf while helping save lives at Hendricks Regional Health. Sponsorship opportunities also are available. Please contact Michelle if you have questions or would like to register your foursome.
LOCATION:The Country Club of Indianapolis 2801 Country Club Road Indianapolis\, IN 46234
UID:e.2233.1622
SEQUENCE:3
DTSTAMP:20260425T014324Z
URL:https://business.danvillechamber.org/events/details/hendricks-regional-health-foundation-2018-golf-outing-1622
END:VEVENT

END:VCALENDAR
