BEGIN:VCALENDAR
VERSION:2.0
PRODID:-//ChamberMaster//Event Calendar 2.0//EN
METHOD:PUBLISH
X-PUBLISHED-TTL:P3D
REFRESH-INTERVAL:P3D
CALSCALE:GREGORIAN
BEGIN:VEVENT
DTSTART:20210519T180000Z
DTEND:20210519T190000Z
X-MICROSOFT-CDO-ALLDAYEVENT:FALSE
SUMMARY:Hendricks County Virtual Job Fair
DESCRIPTION:The Indiana Department of Workforce Development and WorkOne Central are hosting a virtual job fair featuring five employers with 100's of openings available in Avon\, Plainfield\, and Clayton.\n\n\n\nThe virtual job fair is schedule to run from 2 p.m. to 3 p.m. EDT on Wednesday\, May 19.\n\n\n\nBD-Becton Dickinson\, Harlan Bakeries\, JDH Contracting\, Saint-Gobain Abrasives and the new XPO Logistics in Clayton will be participating in the job fair.  Presenters from each will discuss job opportunities in detail\, along with benefits and how to apply.\n\n\n\nThose interested in the job fair but unable to attend are encouraged to still register\, as a recording will be sent via email the following day.\n\n\n\nTo register\, visit: https://attendee.gotowebinar.com/register/697934112103120909
X-ALT-DESC;FMTTYPE=text/html:The Indiana Department of Workforce Development and WorkOne Central are hosting a virtual job fair featuring five employers with 100&#39\;s of openings available in Avon\, Plainfield\, and Clayton.<br />\n<br />\nThe virtual job fair is schedule to run from 2 p.m. to 3 p.m. EDT on Wednesday\, May 19.<br />\n<br />\nBD-Becton Dickinson\, Harlan Bakeries\, JDH Contracting\, Saint-Gobain Abrasives and the new XPO Logistics in Clayton will be participating in the job fair.&nbsp\;&nbsp\;Presenters from each will discuss job opportunities in detail\, along with benefits and how to apply.<br />\n<br />\nThose interested in the job fair but unable to attend are encouraged to still register\, as a recording will be sent via email the following day.<br />\n<br />\nTo register\, visit: <a href="https://attendee.gotowebinar.com/register/697934112103120909">https://attendee.gotowebinar.com/register/697934112103120909</a>
LOCATION:Virtual Event - To register\, visit: https://attendee.gotowebinar.com/register/697934112103120909
UID:e.2233.1904
SEQUENCE:3
DTSTAMP:20260421T064206Z
URL:https://business.danvillechamber.org/events/details/hendricks-county-virtual-job-fair-1904
END:VEVENT

END:VCALENDAR
