BEGIN:VCALENDAR
VERSION:2.0
PRODID:-//ChamberMaster//Event Calendar 2.0//EN
METHOD:PUBLISH
X-PUBLISHED-TTL:P3D
REFRESH-INTERVAL:P3D
CALSCALE:GREGORIAN
BEGIN:VEVENT
DTSTART:20180911T113000Z
DTEND:20180911T133000Z
X-MICROSOFT-CDO-ALLDAYEVENT:FALSE
SUMMARY:Hendricks County Business Women's Breakfast
DESCRIPTION:Witness the incredible journey of a crew of female filmmakers driving across America to encourage\, empower and inspire women to pursue their career ambitions. The Empowerment Project challenges viewers to ask themselves\, "What would you do if you knew you would succeed?" Registration begins at 7:30\, with the documentary beginning promptly at 8:00\, followed by brief discussion. Please register in advance.
X-ALT-DESC;FMTTYPE=text/html:Witness the incredible journey of a crew of female filmmakers driving across America to encourage\, empower and inspire women to pursue their career ambitions. The Empowerment Project challenges viewers to ask themselves\, &quot\;What would you do if you knew you would succeed?&quot\; Registration begins at 7:30\, with the documentary beginning promptly at 8:00\, followed by brief discussion. Please register in advance.
LOCATION:Avon Washington Township Park Pavilion
UID:e.2233.1635
SEQUENCE:3
DTSTAMP:20260424T195939Z
URL:https://business.danvillechamber.org/events/details/hendricks-county-business-women-s-breakfast-1635
END:VEVENT

END:VCALENDAR
