BEGIN:VCALENDAR
VERSION:2.0
PRODID:-//ChamberMaster//Event Calendar 2.0//EN
METHOD:PUBLISH
X-PUBLISHED-TTL:P3D
REFRESH-INTERVAL:P3D
CALSCALE:GREGORIAN
BEGIN:VEVENT
DTSTART:20171019T123000Z
DTEND:20171019T150000Z
X-MICROSOFT-CDO-ALLDAYEVENT:FALSE
SUMMARY:HCCF - Charity Gaming Learning Session
DESCRIPTION:Join the Hendricks County Community Foundation and Indiana Gaming Commission for a classroom style learning session on charity gaming laws in Indiana. You'll hear directly from the IGC as well as ask and hear answers to questions from others fundraising just like you.
X-ALT-DESC;FMTTYPE=text/html:Join the Hendricks County Community Foundation and Indiana Gaming Commission for a classroom style learning session on charity gaming laws in Indiana. You&#39\;ll hear directly from the IGC as well as ask and hear answers to questions from others fundraising just like you.
LOCATION:Hendricks Power Cooperative classroom 86 N County Rd 500 E Avon\, IN 46123
UID:e.2233.1601
SEQUENCE:3
DTSTAMP:20260425T122639Z
URL:https://business.danvillechamber.org/events/details/hccf-charity-gaming-learning-session-1601
END:VEVENT

END:VCALENDAR
