BEGIN:VCALENDAR
VERSION:2.0
PRODID:-//ChamberMaster//Event Calendar 2.0//EN
METHOD:PUBLISH
X-PUBLISHED-TTL:P3D
REFRESH-INTERVAL:P3D
CALSCALE:GREGORIAN
BEGIN:VEVENT
DTSTART:20181019T213000Z
DTEND:20181030T230000Z
X-MICROSOFT-CDO-ALLDAYEVENT:FALSE
SUMMARY:Halloween Spooktacular
DESCRIPTION:JOIN US AT THE VILLAGE OF AVON FOR AN EVENING OF COSTUMES AND TRICK OR TREATING- OCTOBER 30TH 2018 5:30 TO 7:00 PM BRING THE ENTIRE FAMILY!!! OPEN TO THE PUBLIC
X-ALT-DESC;FMTTYPE=text/html:JOIN US AT THE VILLAGE OF AVON FOR AN EVENING OF COSTUMES AND TRICK OR TREATING- OCTOBER 30TH 2018 5:30 TO 7:00 PM BRING THE ENTIRE FAMILY!!! OPEN TO THE PUBLIC
LOCATION:VILLAGE OF AVON
UID:e.2233.1780
SEQUENCE:3
DTSTAMP:20260424T183017Z
URL:https://business.danvillechamber.org/events/details/halloween-spooktacular-1780
END:VEVENT

END:VCALENDAR
