BEGIN:VCALENDAR
VERSION:2.0
PRODID:-//ChamberMaster//Event Calendar 2.0//EN
METHOD:PUBLISH
X-PUBLISHED-TTL:P3D
REFRESH-INTERVAL:P3D
CALSCALE:GREGORIAN
BEGIN:VEVENT
DTSTART:20200704T220000Z
DTEND:20200705T020000Z
X-MICROSOFT-CDO-ALLDAYEVENT:FALSE
SUMMARY:Food Trucks and Fireworks
DESCRIPTION:We're excited to announce that we're changing the way we celebrate Independence Day at the Chamber! This year we're working with Friends of Fred to bring food truck vendors to our yearly fireworks show. We have ten trucks and counting\, serving everything from lobster rolls and pulled pork to cupcakes and ice cream.\n\nGrab-and-go or grab-and-stay and watch one of the best fireworks shows in Hendricks County.
X-ALT-DESC;FMTTYPE=text/html:<p style="margin: 6px 0px\; font-family: Helvetica\, Arial\, sans-serif\; color: rgb(28\, 30\, 33)\; font-size: 14px\; background-color: rgb(255\, 255\, 255)\;">We&#39\;re excited to announce that we&#39\;re changing the way we celebrate Independence Day at the Chamber! This year we&#39\;re working with Friends of Fred to bring food truck vendors to our yearly fireworks show. We have ten trucks and counting\, serving everything from lobster rolls and pulled pork to cupcakes and ice cream.</p>\n\n<p style="margin: 6px 0px 0px\; display: inline\; font-family: Helvetica\, Arial\, sans-serif\; color: rgb(28\, 30\, 33)\; font-size: 14px\; background-color: rgb(255\, 255\, 255)\;">Grab-and-go or grab-and-stay and watch one of the best fireworks shows in Hendricks County.</p>\n
LOCATION:Danville Community High School\, parking lot 100 Warrior Way Danville\, IN 46122
UID:e.2233.1854
SEQUENCE:3
DTSTAMP:20260421T231722Z
URL:https://business.danvillechamber.org/events/details/food-trucks-and-fireworks-1854
END:VEVENT

END:VCALENDAR
