BEGIN:VCALENDAR
VERSION:2.0
PRODID:-//ChamberMaster//Event Calendar 2.0//EN
METHOD:PUBLISH
X-PUBLISHED-TTL:P3D
REFRESH-INTERVAL:P3D
CALSCALE:GREGORIAN
BEGIN:VEVENT
DTSTART:20170715T120000Z
DTEND:20170715T190000Z
X-MICROSOFT-CDO-ALLDAYEVENT:FALSE
SUMMARY:Festival of the Arts!
DESCRIPTION:Shop over 120 Arts and Crafts Vendors from Indiana and the Midwest. Plus we will have a Food Court\, Family Entertainment and Children's Activity Area
X-ALT-DESC;FMTTYPE=text/html:Shop over 120 Arts and Crafts Vendors from Indiana and the Midwest. Plus we will have a Food Court\, Family Entertainment and Children&#39\;s Activity Area
LOCATION:Arbuckle Acres Park\, Brownsburg IN
UID:e.2233.586
SEQUENCE:3
DTSTAMP:20260425T171419Z
URL:https://business.danvillechamber.org/events/details/festival-of-the-arts-586
END:VEVENT

END:VCALENDAR
