BEGIN:VCALENDAR
VERSION:2.0
PRODID:-//ChamberMaster//Event Calendar 2.0//EN
METHOD:PUBLISH
X-PUBLISHED-TTL:P3D
REFRESH-INTERVAL:P3D
CALSCALE:GREGORIAN
BEGIN:VEVENT
DTSTART:20201021T160000Z
DTEND:20201021T170000Z
X-MICROSOFT-CDO-ALLDAYEVENT:FALSE
SUMMARY:Fast Track Physical Therapy Ground Breaking
DESCRIPTION:Corner of N Jefferson and W Main St\, Danville IN
X-ALT-DESC;FMTTYPE=text/html:Corner of N Jefferson and W Main St\, Danville IN&nbsp\;
LOCATION:
UID:e.2233.1877
SEQUENCE:3
DTSTAMP:20260421T194821Z
URL:https://business.danvillechamber.org/events/details/fast-track-physical-therapy-ground-breaking-1877
END:VEVENT

END:VCALENDAR
