BEGIN:VCALENDAR
VERSION:2.0
PRODID:-//ChamberMaster//Event Calendar 2.0//EN
METHOD:PUBLISH
X-PUBLISHED-TTL:P3D
REFRESH-INTERVAL:P3D
CALSCALE:GREGORIAN
BEGIN:VEVENT
DTSTART:20170611T180000Z
DTEND:20170611T200000Z
X-MICROSOFT-CDO-ALLDAYEVENT:FALSE
SUMMARY:Farewell Party for Pastor Jeanne Winter
DESCRIPTION:Join us at Danville United Methodist Church as we say Farewell to Pastor Jeanne Winter and her husband\, Sandy Winter. We'll have delicious treats and an opportunity to thank them for their service to the Danville Community and their ministry to all.
X-ALT-DESC;FMTTYPE=text/html:Join us at Danville United Methodist Church as we say Farewell to Pastor Jeanne Winter and her husband\, Sandy Winter. We&#39\;ll have delicious treats and an opportunity to thank them for their service to the Danville Community and their ministry to all.
LOCATION:Danville United Methodist Church 820 W. Mill Street Danville\, IN 46122
UID:e.2233.587
SEQUENCE:3
DTSTAMP:20260425T185724Z
URL:https://business.danvillechamber.org/events/details/farewell-party-for-pastor-jeanne-winter-587
END:VEVENT

END:VCALENDAR
