BEGIN:VCALENDAR
VERSION:2.0
PRODID:-//ChamberMaster//Event Calendar 2.0//EN
METHOD:PUBLISH
X-PUBLISHED-TTL:P3D
REFRESH-INTERVAL:P3D
CALSCALE:GREGORIAN
BEGIN:VEVENT
DTSTART:20170817T150000Z
DTEND:20170818T020000Z
X-MICROSOFT-CDO-ALLDAYEVENT:FALSE
SUMMARY:Dine to Donate With Los Patios - Hendricks County Humane Society
DESCRIPTION:Help Hendricks County Humane Society by visiting Los Patios for an all day Dine to Donate fundraiser! Just mention you are there for HCHS and 10% of sales will be generously donated to the Humane Society!
X-ALT-DESC;FMTTYPE=text/html:Help Hendricks County Humane Society by visiting Los Patios for an all day Dine to Donate fundraiser! Just mention you are there for HCHS and 10% of sales will be generously donated to the Humane Society!
LOCATION:Los Patios\, 50 Old Farm Rd\, Danville\, IN 46122
UID:e.2233.1591
SEQUENCE:3
DTSTAMP:20260425T151647Z
URL:https://business.danvillechamber.org/events/details/dine-to-donate-with-los-patios-hendricks-county-humane-society-1591
END:VEVENT

END:VCALENDAR
