BEGIN:VCALENDAR
VERSION:2.0
PRODID:-//ChamberMaster//Event Calendar 2.0//EN
METHOD:PUBLISH
X-PUBLISHED-TTL:P3D
REFRESH-INTERVAL:P3D
CALSCALE:GREGORIAN
BEGIN:VEVENT
DTSTART;VALUE=DATE:20181025
DTEND;VALUE=DATE:20181026
TRANSP:TRANSPARENT
X-MICROSOFT-CDO-ALLDAYEVENT:TRUE
SUMMARY:Dine Out Against Domestic Violence
DESCRIPTION:Thursday\, Oct. 25 "Dine Out Against Domestic Violence"  Come out and support the shelter by dining at Charbonos in Avon\, Boulder Creek in Brownsburg\, Stone Creek and Bru Burger in Plainfield.  20% of your bill will come back to support Sheltering Wings.
X-ALT-DESC;FMTTYPE=text/html:Thursday\, Oct. 25 &ldquo\;Dine Out Against Domestic Violence&rdquo\;&nbsp\; Come out and support the shelter by dining at Charbonos in Avon\, Boulder Creek in Brownsburg\, Stone Creek and Bru Burger in Plainfield.&nbsp\; 20% of your bill will come back to support Sheltering Wings.
LOCATION:Boulder Creek\, 1551 N Green Street\, Brownsburg IN 46112 (317) 858-8100 Charbono's\, 128 N Avon Avenue\, Avon IN 46123 (317) 272-1900 Stone Creek\, 2498 Perry Crossing Way #105\, Plainfield IN 46168 (317) 837-9100 Bru Burger\, 2499 Perry Crossing Way #170\, Plainfield IN 46168 (317) 268-1077
UID:e.2233.1643
SEQUENCE:3
DTSTAMP:20260424T183232Z
URL:https://business.danvillechamber.org/events/details/dine-out-against-domestic-violence-10-25-2018-1643
END:VEVENT

END:VCALENDAR
