BEGIN:VCALENDAR
VERSION:2.0
PRODID:-//ChamberMaster//Event Calendar 2.0//EN
METHOD:PUBLISH
X-PUBLISHED-TTL:P3D
REFRESH-INTERVAL:P3D
CALSCALE:GREGORIAN
BEGIN:VEVENT
DTSTART:20170307T230000Z
DTEND:20170308T000000Z
X-MICROSOFT-CDO-ALLDAYEVENT:FALSE
SUMMARY:Dementia 101-Know the Facts Hosted by Village of Avon
DESCRIPTION:Village of Avon hosts "Dementia 101- Know the Facts"\n\nA guest speaker from Assurance Health will discuss Alzheimer's Care and Options. Tours of their Memory Care Unit will be conducted and light refreshments will be served.
X-ALT-DESC;FMTTYPE=text/html:Village of Avon hosts &quot\;Dementia 101- Know the Facts&quot\;<br />\nA guest speaker from Assurance Health will discuss Alzheimer&#39\;s Care and Options. Tours of their Memory Care Unit will be conducted and light refreshments will be served.
LOCATION:4171 Forest Pointe Circle Avon\, IN 46123 www.avonhealthandrehab.com
UID:e.2233.583
SEQUENCE:3
DTSTAMP:20260425T231309Z
URL:https://business.danvillechamber.org/events/details/dementia-101-know-the-facts-hosted-by-village-of-avon-583
END:VEVENT

END:VCALENDAR
