BEGIN:VCALENDAR
VERSION:2.0
PRODID:-//ChamberMaster//Event Calendar 2.0//EN
METHOD:PUBLISH
X-PUBLISHED-TTL:P3D
REFRESH-INTERVAL:P3D
CALSCALE:GREGORIAN
BEGIN:VEVENT
DTSTART:20180607T210000Z
DTEND:20180607T230000Z
X-MICROSOFT-CDO-ALLDAYEVENT:FALSE
SUMMARY:Colts Fan Fest
DESCRIPTION:The Indianapolis Colts will be in town hosting a Colts Fan Fest on June 7th from 5pm-7pm! There will be player appearances from Anthony Castonzo and Jabaal Sheard\, cheerleaders and BLUE! Fan Fest includes:   Autographs and photos with Colts Players\, Cheerleader and Mascot Blue   Register to win Colts Tickets   Become a member of one of the Official Colts Fan Clubs   Free Colts giveaways   Play 60 Zone   Experience Colts In Motion\, the team's traveling museum   Colts interactive inflatables   Live Music   Mobile Colts Pro Shop   Learn more about becoming a Colts Season Ticket Member! The Colts would like to highlight the following guidelines for fans attending Summer Tour events:   The Colts encourage all fans to arrive early.   The line for player and cheerleader autographs may be cut off at any time to ensure the Tour remains on schedule.   All Fan Fest stops are rain or shine.   Team practice schedules and meeting times may cause players to arrive late or depart early.   Fans will be allowed one autograph per person\, however fans may get back in line for additional autographs.
X-ALT-DESC;FMTTYPE=text/html:The Indianapolis Colts will be in town hosting a Colts Fan Fest on June 7th from 5pm-7pm! There will be player appearances from Anthony Castonzo and Jabaal Sheard\, cheerleaders and BLUE! Fan Fest includes: &bull\; Autographs and photos with Colts Players\, Cheerleader and Mascot Blue &bull\; Register to win Colts Tickets &bull\; Become a member of one of the Official Colts Fan Clubs &bull\; Free Colts giveaways &bull\; Play 60 Zone &bull\; Experience Colts In Motion\, the team&#39\;s traveling museum &bull\; Colts interactive inflatables &bull\; Live Music &bull\; Mobile Colts Pro Shop &bull\; Learn more about becoming a Colts Season Ticket Member! The Colts would like to highlight the following guidelines for fans attending Summer Tour events: &bull\; The Colts encourage all fans to arrive early. &bull\; The line for player and cheerleader autographs may be cut off at any time to ensure the Tour remains on schedule. &bull\; All Fan Fest stops are rain or shine. &bull\; Team practice schedules and meeting times may cause players to arrive late or depart early. &bull\; Fans will be allowed one autograph per person\, however fans may get back in line for additional autographs.
LOCATION:Hendricks Co. Courthouse Square 1 Courthouse Sq Danville\, IN 46122
UID:e.2233.1633
SEQUENCE:3
DTSTAMP:20260425T001924Z
URL:https://business.danvillechamber.org/events/details/colts-fan-fest-1633
END:VEVENT

END:VCALENDAR
