BEGIN:VCALENDAR
VERSION:2.0
PRODID:-//ChamberMaster//Event Calendar 2.0//EN
METHOD:PUBLISH
X-PUBLISHED-TTL:P3D
REFRESH-INTERVAL:P3D
CALSCALE:GREGORIAN
BEGIN:VEVENT
DTSTART:20180905T113000Z
DTEND:20180905T130000Z
X-MICROSOFT-CDO-ALLDAYEVENT:FALSE
SUMMARY:Church Leadership Breakfast
DESCRIPTION:Join Sheltering Wings as we serve breakfast and share information about Domestic Violence Awareness month\, hand out a counseling toolkit\, and provide information about the resources that can be beneficial to your church members. Additionally\, we will share with you about our new prevention efforts for our community based on the 40 Developmental Assets. This programming is offered to local schools\, churches and other organizations that focus on children and healthy families throughout our community.
X-ALT-DESC;FMTTYPE=text/html:<span style="background-color:rgb(255\, 255\, 255)\; color:rgb(102\, 106\, 115)\; font-family:benton sans\,-apple-system\,blinkmacsystemfont\,roboto\,helvetica neue\,helvetica\,tahoma\,arial\,sans-serif\; font-size:15px">Join Sheltering Wings as we serve breakfast and share information about Domestic Violence Awareness month\, hand out a counseling toolkit\, and provide information about the resources that can be beneficial to your church members. Additionally\, we will share with you about our new prevention efforts for our community based on the 40 Developmental Assets. This programming is offered to local schools\, churches and other organizations that focus on children and healthy families throughout our community.</span>
LOCATION:Sheltering Wings 1251 Sycamore Lane Danville IN 46122
UID:e.2233.1644
SEQUENCE:3
DTSTAMP:20260424T195644Z
URL:https://business.danvillechamber.org/events/details/church-leadership-breakfast-1644
END:VEVENT

END:VCALENDAR
