BEGIN:VCALENDAR
VERSION:2.0
PRODID:-//ChamberMaster//Event Calendar 2.0//EN
METHOD:PUBLISH
X-PUBLISHED-TTL:P3D
REFRESH-INTERVAL:P3D
CALSCALE:GREGORIAN
BEGIN:VEVENT
DTSTART:20171124T210000Z
DTEND:20171124T230000Z
X-MICROSOFT-CDO-ALLDAYEVENT:FALSE
SUMMARY:Christmas on the Square
DESCRIPTION:Join the town in kicking off the Christmas Season! Fun family centered activities around square\, shops open\, events at the Royal Theater\, live nativity\, and the pinnacle is lighting of the tree and square at 6pm. Follow Santa and Mrs. Claus to Ellis Park for the kick off of Winterland
X-ALT-DESC;FMTTYPE=text/html:Join the town in kicking off the Christmas Season! Fun family centered activities around square\, shops open\, events at the Royal Theater\, live nativity\, and the pinnacle is lighting of the tree and square at 6pm. Follow Santa and Mrs. Claus to Ellis Park for the kick off of Winterland
LOCATION:Hendricks County Courthouse Square
UID:e.2233.1603
SEQUENCE:3
DTSTAMP:20260425T113239Z
URL:https://business.danvillechamber.org/events/details/christmas-on-the-square-1603
END:VEVENT

END:VCALENDAR
