BEGIN:VCALENDAR
VERSION:2.0
PRODID:-//ChamberMaster//Event Calendar 2.0//EN
METHOD:PUBLISH
X-PUBLISHED-TTL:P3D
REFRESH-INTERVAL:P3D
CALSCALE:GREGORIAN
BEGIN:VEVENT
DTSTART:20200418T230000Z
DTEND:20200419T010000Z
X-MICROSOFT-CDO-ALLDAYEVENT:FALSE
SUMMARY:Celtic\, Folk & World music concert
DESCRIPTION:SATURDAY: APRIL 18\, 2020 7:00   9:00PM KEYS\, STRINGS & OTHER THINGS @ Unitarian Universalist Community Church of Hendricks County 95 Jefferson St.Danville\, IN 46122 For info (317)430-0595 or scarman@tds.net https://www.uucchc.org/events/ $15 suggested donation
X-ALT-DESC;FMTTYPE=text/html:SATURDAY: APRIL 18\, 2020 7:00 &ndash\; 9:00PM KEYS\, STRINGS &amp\; OTHER THINGS @ Unitarian Universalist Community Church of Hendricks County 95 Jefferson St.Danville\, IN 46122 For info (317)430-0595 or scarman@tds.net https://www.uucchc.org/events/ $15 suggested donation
LOCATION:Unitarian Universalist Community Church of Hendricks County 95 Jefferson St.Danville\, IN 46122
UID:e.2233.1850
SEQUENCE:3
DTSTAMP:20260422T054003Z
URL:https://business.danvillechamber.org/events/details/celtic-folk-world-music-concert-1850
END:VEVENT

END:VCALENDAR
