BEGIN:VCALENDAR
VERSION:2.0
PRODID:-//ChamberMaster//Event Calendar 2.0//EN
METHOD:PUBLISH
X-PUBLISHED-TTL:P3D
REFRESH-INTERVAL:P3D
CALSCALE:GREGORIAN
BEGIN:VEVENT
DTSTART:20170429T220000Z
DTEND:20170430T010000Z
X-MICROSOFT-CDO-ALLDAYEVENT:FALSE
SUMMARY:Avon Night Light
DESCRIPTION:A fun\, free\, family-friendly fair with music\, food\, and carnival-style games for all ages. The event also includes an evening glow 5K walk/run. Proceeds support the pediatric unit and prenatal program at Hendricks Regional Health.
X-ALT-DESC;FMTTYPE=text/html:A fun\, free\, family-friendly fair with music\, food\, and carnival-style games for all ages. The event also includes an evening glow 5K walk/run. Proceeds support the pediatric unit and prenatal program at Hendricks Regional Health.
LOCATION:Hendricks Regional Health YMCA
UID:e.2233.579
SEQUENCE:3
DTSTAMP:20260425T213337Z
URL:https://business.danvillechamber.org/events/details/avon-night-light-579
END:VEVENT

END:VCALENDAR
