BEGIN:VCALENDAR
VERSION:2.0
PRODID:-//ChamberMaster//Event Calendar 2.0//EN
METHOD:PUBLISH
X-PUBLISHED-TTL:P3D
REFRESH-INTERVAL:P3D
CALSCALE:GREGORIAN
BEGIN:VEVENT
DTSTART:20171104T110000Z
DTEND:20171105T023000Z
X-MICROSOFT-CDO-ALLDAYEVENT:FALSE
SUMMARY:Annual Tri Kappa Chicago Bus Trip
DESCRIPTION:A Day in Chicago! Join Danville Tri Kappa on this annual bus trip to the Windy City! A charter bus will take us to Water Tower Place in Chicago then personalize your day. You can shop\, take in a show\, visit a museum\, take a tour\, eat at any of a variety of great restaurants - enjoy a great day in Chicago then the bus will bring us all back to Danville at the end of the day. Your ticket includes all bus expenses\, drinks (alcoholic & non)\, continental breakfast\, raffles\, movies\, and snacks on the bus.\n\n\n\nNew this year\, tickets are opened up to men & boys (5th grade and older) as well as women and girls (5th grade and older). Take your family\, have a couples trip\, a mother/daughter or mother/son day\, etc!
X-ALT-DESC;FMTTYPE=text/html:A Day in Chicago! Join Danville Tri Kappa on this annual bus trip to the Windy City! A charter bus will take us to Water Tower Place in Chicago then personalize your day. You can shop\, take in a show\, visit a museum\, take a tour\, eat at any of a variety of great restaurants - enjoy a great day in Chicago then the bus will bring us all back to Danville at the end of the day.&nbsp\;Your ticket includes all bus expenses\, drinks (alcoholic &amp\; non)\, continental breakfast\, raffles\, movies\, and snacks on the bus.<br />\n<br />\nNew this year\, tickets are opened up to men &amp\; boys (5th grade and older) as well as women and girls (5th grade and older). Take your family\, have a couples trip\, a mother/daughter or mother/son day\, etc!
LOCATION:The Charter bus will leave North Elementary at 7am (EST)\, arrive at Water Tower Place at 9am Chicago time (CST). The Charter bus will leave Water Tower at 6pm Chicago time (CST)\, return to North Elementary 10:30pm (EST)
UID:e.2233.1597
SEQUENCE:3
DTSTAMP:20260425T110433Z
URL:https://business.danvillechamber.org/events/details/annual-tri-kappa-chicago-bus-trip-1597
END:VEVENT

END:VCALENDAR
