BEGIN:VCALENDAR
VERSION:2.0
PRODID:-//ChamberMaster//Event Calendar 2.0//EN
METHOD:PUBLISH
X-PUBLISHED-TTL:P3D
REFRESH-INTERVAL:P3D
CALSCALE:GREGORIAN
BEGIN:VEVENT
DTSTART:20170704T233000Z
DTEND:20170705T020000Z
X-MICROSOFT-CDO-ALLDAYEVENT:FALSE
SUMMARY:A Night of Jazz Concert
DESCRIPTION:Great music under the stars! Enjoy a night of music\, fireworks\, and fun on Tuesday\, July 4 with Joe Herr and the Blue Saloon Band at the Danville Music Palace. The band features HRH physicians Dr. Jim Richardson and Dr. Joe Herr. Great music under the stars! Enjoy a night of music\, fireworks\, and fun featuring Joe Herr and the Blue Saloon Band at the Danville Music Palace. The band features HRH physicians Dr. Jim Richardson and Dr. Joe Herr. Bring your refreshments and lawn chairs. A donation at the gate of $10 per person benefits Hendricks Regional Health Foundation. Kids 12 and under are free. Gate opens at 6:30. Music begins at 7:30. Enjoy watching nearby fireworks\, too\, at 10. A great way to celebrate the 4th\, with music\, friends\, and fireworks!
X-ALT-DESC;FMTTYPE=text/html:Great music under the stars! Enjoy a night of music\, fireworks\, and fun on Tuesday\, July 4 with Joe Herr and the Blue Saloon Band at the Danville Music Palace. The band features HRH physicians Dr. Jim Richardson and Dr. Joe Herr. Great music under the stars! Enjoy a night of music\, fireworks\, and fun featuring Joe Herr and the Blue Saloon Band at the Danville Music Palace. The band features HRH physicians Dr. Jim Richardson and Dr. Joe Herr. Bring your refreshments and lawn chairs. A donation at the gate of $10 per person benefits Hendricks Regional Health Foundation. Kids 12 and under are free. Gate opens at 6:30. Music begins at 7:30. Enjoy watching nearby fireworks\, too\, at 10. A great way to celebrate the 4th\, with music\, friends\, and fireworks!
LOCATION:Danville Music Palace 1225 County Road 100 South Danville\, IN
UID:e.2233.580
SEQUENCE:3
DTSTAMP:20260425T171444Z
URL:https://business.danvillechamber.org/events/details/a-night-of-jazz-concert-580
END:VEVENT

END:VCALENDAR
